BEGIN:VCALENDAR
VERSION:2.0
PRODID:-//Creative Pinellas - ECPv6.15.18//NONSGML v1.0//EN
CALSCALE:GREGORIAN
METHOD:PUBLISH
X-WR-CALNAME:Creative Pinellas
X-ORIGINAL-URL:https://creativepinellas.org
X-WR-CALDESC:Events for Creative Pinellas
REFRESH-INTERVAL;VALUE=DURATION:PT1H
X-Robots-Tag:noindex
X-PUBLISHED-TTL:PT1H
BEGIN:VTIMEZONE
TZID:America/New_York
BEGIN:DAYLIGHT
TZOFFSETFROM:-0500
TZOFFSETTO:-0400
TZNAME:EDT
DTSTART:20220313T070000
END:DAYLIGHT
BEGIN:STANDARD
TZOFFSETFROM:-0400
TZOFFSETTO:-0500
TZNAME:EST
DTSTART:20221106T060000
END:STANDARD
BEGIN:DAYLIGHT
TZOFFSETFROM:-0500
TZOFFSETTO:-0400
TZNAME:EDT
DTSTART:20230312T070000
END:DAYLIGHT
BEGIN:STANDARD
TZOFFSETFROM:-0400
TZOFFSETTO:-0500
TZNAME:EST
DTSTART:20231105T060000
END:STANDARD
BEGIN:DAYLIGHT
TZOFFSETFROM:-0500
TZOFFSETTO:-0400
TZNAME:EDT
DTSTART:20240310T070000
END:DAYLIGHT
BEGIN:STANDARD
TZOFFSETFROM:-0400
TZOFFSETTO:-0500
TZNAME:EST
DTSTART:20241103T060000
END:STANDARD
BEGIN:DAYLIGHT
TZOFFSETFROM:-0500
TZOFFSETTO:-0400
TZNAME:EDT
DTSTART:20250309T070000
END:DAYLIGHT
BEGIN:STANDARD
TZOFFSETFROM:-0400
TZOFFSETTO:-0500
TZNAME:EST
DTSTART:20251102T060000
END:STANDARD
END:VTIMEZONE
BEGIN:VEVENT
DTSTART;VALUE=DATE:20231109
DTEND;VALUE=DATE:20240115
DTSTAMP:20260425T233033
CREATED:20230823T185126Z
LAST-MODIFIED:20240118T170046Z
UID:84361-1699488000-1705276799@creativepinellas.org
SUMMARY:Arts Annual 2023: Discovery
DESCRIPTION:Extended to January 14\, 2024\, due to popular demand! This year’s Arts Annual features some of Pinellas County’s most well-known artists as well as innovative up-and-coming creators. Each year\, Creative Pinellas invites past Professional and Emerging Artist Grantees to participate in the Arts Annual to highlight some of the Arts Coast’s amazing artistic talent. Join us to view\, buy\, and engage in participatory arts experiences. \nWe are excited to announce the following artists who will be participating in Arts Annual 2023 Discovery: 2 Happy Ukers\, Kristin Andersen\, Tatiana Baccari\, Elizabeth Barenis\, Daniel “R5” Barojas\, Troy Bernardo\, Christina Bertsos\, Greg Byrd\, Chomick+Meder\, Courtney Clute\, Neverne Covington\, Sheila Cowley\, PatiKD\, Nikki Devereux\, Javier T. Dones\, Dunedin Music Society Ensembles\, Sara Ries Dziekonski\, Roxanne Fay\, John Gascot\, Gaston Le Crayon\, Mason Gehring\, Donald Gialanella\, Jim Gigurtsis\, Kevin Grass\, Sheree L. Greer\, Jason Hackenwerth\, Steph Hargrove\, Reid Jenkins\, Charlotte Johnson\, Victoria Barbara Jorgensen\, Steven Kenny\, Candace Knapp\, Akiko Kotani\, Teresa Mandala\, Cora Marshall\, Carol Mickett and Robert Stackhouse\, Mark Mitchell\, Chad Mize\, Desiree Moore\, Zoe Papas\, Gianna Pergamo\, Rose Marie Prins\, Gabriel Ramos\, Babs Reingold\, George Retkes\, Heather Rippert\, Ashley Rivers – The Nature of Fire\, Marlene Rose\, Sketzii\, Ric Savid\, Tom Sivak\, Emily Stehle\, Miss Crit\, Rachel Stewart\, Sarah Todd Emery\, Takeya Trayer\, Judy Vienneau\, Kirk Ke Wang\, Angela Warren\, Joseph Weinzettle\, and Frederick “Rootman “Woods. \nThe Gallery is open Wednesdays through Sundays\, from 10am –5pm with holiday hours beginning November 24th until 8pm. The gallery will be closed on November 23rd\, December 25th\, and on December 31st at 5 pm. The gallery will resume normal hours on January 3\, 2024 and will be open Wednesdays through Sundays\, from 10 AM to 5 PM. \n\n \n\nSHOP THE GALLERY AT CREATIVE PINELLAS\n\nMeet the Artists\n            \n            \n                \n            \n            \n                Arts Annual 2023 Artists\n                \n                    Posted on November 1\, 2023 by Creative Pinellas                \n                Meet our amazing group of performers\, musicians\, exhibitors and artmakers! Exhibited art is available for purchase by clicking on the artist’s page…. Read More \n            \n            \n            \nEvents\n            \n            \n                \n            \n            \n                Arts Annual 2023: The Party\n                \n                    Posted on August 23\, 2023 by Creative Pinellas                \n                We are excited to announce Arts Annual’s THE PARTY on Thursday\, November 9th from 6-9 pm at the Gallery at Creative Pinellas. This one-night event is Creative Pinellas’ only fundraiser of the year with all proceeds supporting our artist and cultural organization grants\, and student summer camp grants…. Read More \n            \n            \n            \n            \n            \n                \n            \n            \n                Arts Annual 2023: ARTSventure\n                \n                    Posted on August 25\, 2023 by Creative Pinellas                \n                Join us for a Free Family-Friendly Arts festival. Beginning with a special Veteran’s Day commemoration. The event continues with an arts and crafts market\, live performances\, gallery exhibition\, craft activities\, food and more!… Read More \n            \n            \n            \n 
URL:https://creativepinellas.org/event/arts-annual-2023/
LOCATION:The Gallery at Creative Pinellas archive\, 12211 Walsingham Road\, Largo\, FL\, 33778\, United States
ATTACH;FMTTYPE=image/png:https://creativepinellas.org/wp-content/uploads/2023/08/23-Arts-Annual-Web-1920-x-1080.png
END:VEVENT
BEGIN:VEVENT
DTSTART;TZID=America/New_York:20231202T110000
DTEND;TZID=America/New_York:20231202T123000
DTSTAMP:20260425T233033
CREATED:20231011T174748Z
LAST-MODIFIED:20231130T155125Z
UID:85941-1701514800-1701520200@creativepinellas.org
SUMMARY:Beyond Placemaking Grant Workshop #3
DESCRIPTION:Join us at the Creative Pinellas Arts and Culture Visitor Center inside The Gallery for this Beyond Placemaking Grant Workshop!\nThe workshop is designed to assist in: \n\nFinding and connecting with a non-profit organization\nEnsuring they’re a good fit for your project\, and identifying the right point person\nHave the capacity to work on the project\nFocusing your project’s intent and purpose\n\nWorkshop will also focus on effective community engagement activities\, how to find suitable locations and avenues for outreach and promotion. \nThese grants are\, above all\, collaborative in nature and we are here to support your activities and success in moving forward with the opportunity. \n \nIf you’re unable to attend a workshop but need more information\, email grants@creativepinellas.org  \nClick to learn more about this grant.
URL:https://creativepinellas.org/event/beyond-placemaking-grant-workshop-3/
LOCATION:The Arts and Culture Visitors Center at The Gallery at Creative Pinellas\, 12211 Walsignham Road\, Largo\, 33778\, United States
CATEGORIES:Workshop
ATTACH;FMTTYPE=image/png:https://creativepinellas.org/wp-content/uploads/2023/10/BeyondPlacemakingWEB.png
END:VEVENT
BEGIN:VEVENT
DTSTART;TZID=America/New_York:20231216T070000
DTEND;TZID=America/New_York:20231216T213000
DTSTAMP:20260425T233033
CREATED:20230927T192322Z
LAST-MODIFIED:20231207T120910Z
UID:85306-1702710000-1702762200@creativepinellas.org
SUMMARY:Third Saturdays at Pinewood
DESCRIPTION:Celebrate at Pinewood (Florida Botanical Gardens\, Creative Pinellas\, Heritage Village) every 3rd Saturday! Free event\, free parking! \nAt Creative Pinellas (10 am – 8 pm):\n\nDrop-in to discover our Arts Annual 2023 exhibition before it ends and for art activities including creating poinsettia portraits with watercolors\, a gallery scavenger hunt\, and more! Our Cafe is open and stocked with cocoa and other holiday treats.Free to attend. \n\n\nAt the Florida Botanical Gardens (7 am – 5 pm):\nAttend the FNGLA/Florida Farm Bureau Craft Weekend at the Florida Botanical Gardens on Friday\, December 15th through Sunday\, December 17th\, 2023 from 5:30-9:30 PM every night. This event is part of our annual winter fundraiser\, Holiday Lights in the Gardens\, which will run from Friday\, November 24th through Sunday\, December 31st\, 2023 from 5:30-9:30 PM nightly. For more information\, visit www.flbgfoundation.org/HolidayLights. \nAt Heritage Village (10 am – 4 pm):\nSanta Claus is coming to town! Join us for Santa Saturday at Heritage Village from 10am to 1:30pm\, featuring fun and family-friendly activities\, food trucks\, music\, and more!  Free admission and parking.
URL:https://creativepinellas.org/event/third-saturdays-at-pinewood-2/
LOCATION:The Gallery at Creative Pinellas archive\, 12211 Walsingham Road\, Largo\, FL\, 33778\, United States
CATEGORIES:Gallery Event,Pinewood Partners
ATTACH;FMTTYPE=image/png:https://creativepinellas.org/wp-content/uploads/2022/04/Pinewood_3rdSaturdays_WebGraphic_NoDate.png
END:VEVENT
END:VCALENDAR