BEGIN:VCALENDAR
VERSION:2.0
PRODID:-//Creative Pinellas - ECPv6.15.18//NONSGML v1.0//EN
CALSCALE:GREGORIAN
METHOD:PUBLISH
X-WR-CALNAME:Creative Pinellas
X-ORIGINAL-URL:https://creativepinellas.org
X-WR-CALDESC:Events for Creative Pinellas
REFRESH-INTERVAL;VALUE=DURATION:PT1H
X-Robots-Tag:noindex
X-PUBLISHED-TTL:PT1H
BEGIN:VTIMEZONE
TZID:America/New_York
BEGIN:DAYLIGHT
TZOFFSETFROM:-0500
TZOFFSETTO:-0400
TZNAME:EDT
DTSTART:20210314T070000
END:DAYLIGHT
BEGIN:STANDARD
TZOFFSETFROM:-0400
TZOFFSETTO:-0500
TZNAME:EST
DTSTART:20211107T060000
END:STANDARD
BEGIN:DAYLIGHT
TZOFFSETFROM:-0500
TZOFFSETTO:-0400
TZNAME:EDT
DTSTART:20220313T070000
END:DAYLIGHT
BEGIN:STANDARD
TZOFFSETFROM:-0400
TZOFFSETTO:-0500
TZNAME:EST
DTSTART:20221106T060000
END:STANDARD
BEGIN:DAYLIGHT
TZOFFSETFROM:-0500
TZOFFSETTO:-0400
TZNAME:EDT
DTSTART:20230312T070000
END:DAYLIGHT
BEGIN:STANDARD
TZOFFSETFROM:-0400
TZOFFSETTO:-0500
TZNAME:EST
DTSTART:20231105T060000
END:STANDARD
BEGIN:DAYLIGHT
TZOFFSETFROM:-0500
TZOFFSETTO:-0400
TZNAME:EDT
DTSTART:20240310T070000
END:DAYLIGHT
BEGIN:STANDARD
TZOFFSETFROM:-0400
TZOFFSETTO:-0500
TZNAME:EST
DTSTART:20241103T060000
END:STANDARD
END:VTIMEZONE
BEGIN:VEVENT
DTSTART;TZID=America/New_York:20230306T190000
DTEND;TZID=America/New_York:20230306T203000
DTSTAMP:20260424T075458
CREATED:20221130T200303Z
LAST-MODIFIED:20221222T155250Z
UID:75061-1678129200-1678134600@creativepinellas.org
SUMMARY:First Mondays
DESCRIPTION:March – NOW by Vincent Terell Durham\nA NOW organizer arrives at a home in 1973 Massapequa\, Long Island with an invitation to liberate the long-suffering housewife inside. She mistakes the Black housekeeper as the lady of the house. \n\n\n\n\nPlease RSVP
URL:https://creativepinellas.org/event/first-mondays-7/
LOCATION:The Auditorium at Creative Pinellas\, 12211 Walsingham Rd\, Largo\, FL\, 33778\, United States
CATEGORIES:Live Performance
ATTACH;FMTTYPE=image/png:https://creativepinellas.org/wp-content/uploads/2022/06/First-Monday-Web-1920-x-1080-.png
END:VEVENT
BEGIN:VEVENT
DTSTART;TZID=America/New_York:20230225T130000
DTEND;TZID=America/New_York:20230225T143000
DTSTAMP:20260424T075458
CREATED:20230119T195110Z
LAST-MODIFIED:20230123T190311Z
UID:76315-1677330000-1677335400@creativepinellas.org
SUMMARY:Aq&Ree: Brother Fire\, Sister Fly - 2nd Reading
DESCRIPTION:Written by Jake-ann Jones (2022 Creative Pinellas Artist Laureate) \n\n\nDirected by Erica Sutherlin \n\n\n\nExperience the second table reading of a play in development at the Auditorium at Creative Pinellas on February 25 at 1pm. Aq&Ree: Brother Fire\, Sister Fly is a work in progress about a brother and sister raised worlds apart and brought together when tragedy strikes. The play will be filled with music and media featuring actors and one musician.\n\n\nFREE and Open to the Public \n  \n\n\nPlease RSVP\n  \n\n\n\n\nMeet the Playwright and Artist Laureate\n            \n            \n                \n            \n            \n                Jake-ann Jones\n                \n                    Posted on July 7\, 2021 by Jake-ann Jones                \n                Jake-ann Jones also works under the name J.A. Jones and J.A. Morton (she\, her\, hers)\, is the 2022 Creative Pinellas Artist Laureate\, and author of the Black Classic Press release SometimesFarmgirls Become Revolutionaries: Notes on Black Power\, Politics\, Depression\, and the FBI. She works extensively with community organizations through the SOW Fund at Pinellas Community… Read More \n            \n            \n            \n\n\n\n\nMeet the Director\n            \n            \n                \n            \n            \n                Erica Sutherlin\n                \n                    Posted on June 23\, 2022 by Erica Sutherlin                \n                Erica Sutherlin is a powerhouse multi-hyphenate executive\, filmmaker\, and theatrical director who serves as the Artistic Executive Director of The Studio@620. She holds a Master of Fine Arts in Film and Television Production from the USC School of Cinematic Arts. A career spanning over 20 years\, Erica has established herself as an award-winning visionary\, making… Read More \n            \n            \n            \n\n\nPrevious Events\n            \n            \n                \n            \n            \n                AQUARIUS AND RIETTA (brother fire\, sister fly)\n                \n                    Posted on October 6\, 2022 by Creative Pinellas                \n                AQUARIUS AND RIETTA (brother fire\, sister fly) is work in progress. Experience this play in development filled with music and media featuring actors and one musician…. Read More
URL:https://creativepinellas.org/event/aqree-brother-fire-sister-fly-2nd-reading/
LOCATION:The Auditorium at Creative Pinellas\, 12211 Walsingham Rd\, Largo\, FL\, 33778\, United States
CATEGORIES:Live Performance
ATTACH;FMTTYPE=image/png:https://creativepinellas.org/wp-content/uploads/2022/10/MelaninWeb.png
END:VEVENT
BEGIN:VEVENT
DTSTART;TZID=America/New_York:20230206T190000
DTEND;TZID=America/New_York:20230206T203000
DTSTAMP:20260424T075458
CREATED:20221130T200125Z
LAST-MODIFIED:20221222T155157Z
UID:75058-1675710000-1675715400@creativepinellas.org
SUMMARY:First Mondays
DESCRIPTION:February – Black Voices by Alexandria Crawford and Patrick Arthur Jackson\nThe voices of African American icons share their hope for the future and the lessons they learned along the way. \n\n\n\n\nPlease RSVP
URL:https://creativepinellas.org/event/first-mondays-6/
LOCATION:The Auditorium at Creative Pinellas\, 12211 Walsingham Rd\, Largo\, FL\, 33778\, United States
CATEGORIES:Live Performance
ATTACH;FMTTYPE=image/png:https://creativepinellas.org/wp-content/uploads/2022/06/First-Monday-Web-1920-x-1080-.png
END:VEVENT
BEGIN:VEVENT
DTSTART;TZID=America/New_York:20230103T190000
DTEND;TZID=America/New_York:20230103T203000
DTSTAMP:20260424T075458
CREATED:20221130T195818Z
LAST-MODIFIED:20221222T155119Z
UID:75054-1672772400-1672777800@creativepinellas.org
SUMMARY:First Mondays
DESCRIPTION:January – Three Second to Midnight by John Mabey\nWe celebrate New Year’s Day by offering resolutions for a better self. But what happens to those unresolved-resolutions on the last day of the year\, with only 3 seconds left? One brave woman demands an answer from Father Time\, both getting much more than they ever expected. \nPlease note: With the New Year’s Day holiday observed on Monday\, January 2\, 2023\, this particular “First Monday” event will take place on Tuesday\, January 3\, 2023. \n\n\n\n\nPlease RSVP
URL:https://creativepinellas.org/event/first-mondays-5/
LOCATION:The Auditorium at Creative Pinellas\, 12211 Walsingham Rd\, Largo\, FL\, 33778\, United States
CATEGORIES:Live Performance
ATTACH;FMTTYPE=image/png:https://creativepinellas.org/wp-content/uploads/2022/06/First-Monday-Web-1920-x-1080-.png
END:VEVENT
BEGIN:VEVENT
DTSTART;TZID=America/New_York:20221107T190000
DTEND;TZID=America/New_York:20221107T203000
DTSTAMP:20260424T075458
CREATED:20221013T232808Z
LAST-MODIFIED:20221025T141841Z
UID:73563-1667847600-1667853000@creativepinellas.org
SUMMARY:First Mondays
DESCRIPTION:50:13 by Mansa Ra\n‍\nWHEN: Nov 7\, 2022 \nDae Brown\, an incarcerated Black man sits\, with three days left of his sentence. During Brown’s final days in prison he tries to impart his wisdom onto a teen inmate serving an adult sentence. \n  \nJoin Us for the best Monday Night Reading you have ever experienced. \nPlease RSVP\n  \n\n\n\n\n 
URL:https://creativepinellas.org/event/first-mondays-4/
LOCATION:The Auditorium at Creative Pinellas\, 12211 Walsingham Rd\, Largo\, FL\, 33778\, United States
CATEGORIES:Live Performance
ATTACH;FMTTYPE=image/png:https://creativepinellas.org/wp-content/uploads/2022/06/First-Monday-Web-1920-x-1080-.png
END:VEVENT
BEGIN:VEVENT
DTSTART;TZID=America/New_York:20221015T150000
DTEND;TZID=America/New_York:20221015T163000
DTSTAMP:20260424T075458
CREATED:20221006T142231Z
LAST-MODIFIED:20221011T215953Z
UID:73041-1665846000-1665851400@creativepinellas.org
SUMMARY:AQUARIUS AND RIETTA (brother fire\, sister fly)
DESCRIPTION:Written by Jake-ann Jones \n\nDirected by Erica Sutherlin\n\n\n\n\nA brother and sister raised worlds apart are brought together when tragedy strikes.\nAQUARIUS AND RIETTA (brother fire\, sister fly) is a work in progress by Creative Pinellas Artist Laureate\, Jake-ann Jones. Experience the first phase with a table reading for this play in development that will be filled with music and media and feature actors and one musician.\n\nFREE and Open to the Public\nPlease RSVP\n\n\nMeet the Playwright and Artist Laureate\n            \n            \n                \n            \n            \n                Jake-ann Jones\n                \n                    Posted on July 7\, 2021 by Jake-ann Jones                \n                Jake-ann Jones also works under the name J.A. Jones and J.A. Morton (she\, her\, hers)\, is the 2022 Creative Pinellas Artist Laureate\, and author of the Black Classic Press release SometimesFarmgirls Become Revolutionaries: Notes on Black Power\, Politics\, Depression\, and the FBI. She works extensively with community organizations through the SOW Fund at Pinellas Community… Read More \n            \n            \n            \n\n\n\n\nMeet the Director\n            \n            \n                \n            \n            \n                Erica Sutherlin\n                \n                    Posted on June 23\, 2022 by Erica Sutherlin                \n                Erica Sutherlin is a powerhouse multi-hyphenate executive\, filmmaker\, and theatrical director who serves as the Artistic Executive Director of The Studio@620. She holds a Master of Fine Arts in Film and Television Production from the USC School of Cinematic Arts. A career spanning over 20 years\, Erica has established herself as an award-winning visionary\, making… Read More
URL:https://creativepinellas.org/event/aquarius-and-rietta/
LOCATION:The Auditorium at Creative Pinellas\, 12211 Walsingham Rd\, Largo\, FL\, 33778\, United States
CATEGORIES:Live Performance
ATTACH;FMTTYPE=image/png:https://creativepinellas.org/wp-content/uploads/2022/10/MelaninWeb.png
END:VEVENT
BEGIN:VEVENT
DTSTART;TZID=America/New_York:20221010T190000
DTEND;TZID=America/New_York:20221010T203000
DTSTAMP:20260424T075458
CREATED:20220805T095222Z
LAST-MODIFIED:20221006T185327Z
UID:72136-1665428400-1665433800@creativepinellas.org
SUMMARY:First Mondays
DESCRIPTION:Homecoming ‘92 by John Bavoso‍\nBenji has snuck away to an empty classroom in his college’s English Department for a clandestine rendezvous with Ethan. But when they make a grisly discovery\, he’s unexpectedly confronted with questions about how he’s choosing to live his life — now and in the future. \nJoin Us for the best Monday Night Reading you have ever experienced. \nPlease RSVP\n  \n\n\n\n\nCOMING SOON: 50:13 by Mansa Ra\nWHEN: Nov 7\, 2022‍ \nDae Brown\, an incarcerated Black man sits\, with three days left of his sentence. During Brown’s final days in prison he tries to impart his wisdom onto a teen inmate serving an adult sentence. \nPlease RSVP\n  \n\n\n\n\nCOMING SOON: Student Written… by Pinellas County School Students\nWHEN: Dec 5\, 2022‍ \nEnjoy a collection of short plays written by Pinellas County students\, as a part of American Stage’s Write On! Pinellas Playwriting Program. \nPlease RSVP
URL:https://creativepinellas.org/event/first-mondays-3/
LOCATION:The Gallery at Creative Pinellas archive\, 12211 Walsingham Road\, Largo\, FL\, 33778\, United States
CATEGORIES:Live Performance
ATTACH;FMTTYPE=image/png:https://creativepinellas.org/wp-content/uploads/2022/06/First-Monday-Web-1920-x-1080-.png
END:VEVENT
BEGIN:VEVENT
DTSTART;TZID=America/New_York:20220912T190000
DTEND;TZID=America/New_York:20220912T203000
DTSTAMP:20260424T075458
CREATED:20220805T153805Z
LAST-MODIFIED:20220805T153805Z
UID:17571-1663009200-1663014600@creativepinellas.org
SUMMARY:First Mondays
DESCRIPTION:No No Box by Hannah Benitez\nTwo young sisters; one home from college and the other trapped in high school\, grapple over the mysterious disappearance of an embarrassing item. \nJoin Us for the best Monday Night Reading you have ever experienced. 🙂\nBook Tickets
URL:https://creativepinellas.org/event/first-mondays-2/
LOCATION:The Gallery at Creative Pinellas archive\, 12211 Walsingham Road\, Largo\, FL\, 33778\, United States
CATEGORIES:Live Performance
ATTACH;FMTTYPE=image/png:https://creativepinellas.org/wp-content/uploads/2022/06/First-Monday-Web-1920-x-1080-.png
END:VEVENT
BEGIN:VEVENT
DTSTART;TZID=America/New_York:20220801T190000
DTEND;TZID=America/New_York:20220801T203000
DTSTAMP:20260424T075458
CREATED:20220714T225803Z
LAST-MODIFIED:20220714T225812Z
UID:16970-1659380400-1659385800@creativepinellas.org
SUMMARY:First Mondays
DESCRIPTION:Fragile by Dana Leslie Goldstein\nRennie is on the verge of losing his beloved comic book shop.  When Alana walks in\, everything starts to change.  Secret identities are revealed\, but it’s going to take more than super-strength to forge a new origin story. \nJoin Us for the best Monday Night Reading you have ever experienced. 🙂\nBook Tickets
URL:https://creativepinellas.org/event/first-mondays/
LOCATION:The Gallery at Creative Pinellas archive\, 12211 Walsingham Road\, Largo\, FL\, 33778\, United States
CATEGORIES:Live Performance
ATTACH;FMTTYPE=image/png:https://creativepinellas.org/wp-content/uploads/2022/06/First-Monday-Web-1920-x-1080-.png
END:VEVENT
BEGIN:VEVENT
DTSTART;TZID=America/New_York:20220711T190000
DTEND;TZID=America/New_York:20220711T203000
DTSTAMP:20260424T075458
CREATED:20220610T194157Z
LAST-MODIFIED:20220610T205409Z
UID:15724-1657566000-1657571400@creativepinellas.org
SUMMARY:First Mondays
DESCRIPTION:Bette and Me by Wendy Wasserstein\nIn BETTE AND ME\, the author and the legendary Bette Midler get their hair done\, try on makeup\, and row a boat on the Hudson River. They finally end up at Radio City Music Hall\, where Wendy rises from the orchestra pit on a half-shell with a blonde wig and six-foot eyelashes. \nJoin Us for the best Monday Night Reading you have ever experienced. 🙂\nBook Tickets
URL:https://creativepinellas.org/event/first-mondays-july/
LOCATION:The Gallery at Creative Pinellas archive\, 12211 Walsingham Road\, Largo\, FL\, 33778\, United States
CATEGORIES:Live Performance
ATTACH;FMTTYPE=image/png:https://creativepinellas.org/wp-content/uploads/2022/06/First-Monday-Web-1920-x-1080-.png
END:VEVENT
BEGIN:VEVENT
DTSTART;TZID=America/New_York:20220606T190000
DTEND;TZID=America/New_York:20220606T203000
DTSTAMP:20260424T075458
CREATED:20220610T200025Z
LAST-MODIFIED:20220610T205359Z
UID:15737-1654542000-1654547400@creativepinellas.org
SUMMARY:First Mondays
DESCRIPTION:“Where is the Bus”\nby Grant Tetmeyer read by professional actors and artists from American Stage!\n\n\n\nNick wakes up to find that he has died and is waiting in purgatory. As he waits for judgement he meets Violet\, a young drag queen who has been shot in the face. As the two wait\, they discuss their deaths\, their lives on Earth and how they might spend their afterlife.\n\n\n\nDirected by Tyler McElrath\n\nCast\nNick: Nick Perez-Hoop\nMartin: Martin Powers\nViolet: Jay Miah\nStage Directions/Voices: Bri Burgess
URL:https://creativepinellas.org/event/first-mondays-june/
LOCATION:The Gallery at Creative Pinellas archive\, 12211 Walsingham Road\, Largo\, FL\, 33778\, United States
CATEGORIES:Live Performance
ATTACH;FMTTYPE=image/png:https://creativepinellas.org/wp-content/uploads/2022/06/First-Monday-Web-1920-x-1080-.png
END:VEVENT
END:VCALENDAR