BEGIN:VCALENDAR
VERSION:2.0
PRODID:-//Creative Pinellas - ECPv6.15.18//NONSGML v1.0//EN
CALSCALE:GREGORIAN
METHOD:PUBLISH
X-WR-CALNAME:Creative Pinellas
X-ORIGINAL-URL:https://creativepinellas.org
X-WR-CALDESC:Events for Creative Pinellas
REFRESH-INTERVAL;VALUE=DURATION:PT1H
X-Robots-Tag:noindex
X-PUBLISHED-TTL:PT1H
BEGIN:VTIMEZONE
TZID:America/New_York
BEGIN:DAYLIGHT
TZOFFSETFROM:-0500
TZOFFSETTO:-0400
TZNAME:EDT
DTSTART:20240310T070000
END:DAYLIGHT
BEGIN:STANDARD
TZOFFSETFROM:-0400
TZOFFSETTO:-0500
TZNAME:EST
DTSTART:20241103T060000
END:STANDARD
BEGIN:DAYLIGHT
TZOFFSETFROM:-0500
TZOFFSETTO:-0400
TZNAME:EDT
DTSTART:20250309T070000
END:DAYLIGHT
BEGIN:STANDARD
TZOFFSETFROM:-0400
TZOFFSETTO:-0500
TZNAME:EST
DTSTART:20251102T060000
END:STANDARD
BEGIN:DAYLIGHT
TZOFFSETFROM:-0500
TZOFFSETTO:-0400
TZNAME:EDT
DTSTART:20260308T070000
END:DAYLIGHT
BEGIN:STANDARD
TZOFFSETFROM:-0400
TZOFFSETTO:-0500
TZNAME:EST
DTSTART:20261101T060000
END:STANDARD
BEGIN:DAYLIGHT
TZOFFSETFROM:-0500
TZOFFSETTO:-0400
TZNAME:EDT
DTSTART:20270314T070000
END:DAYLIGHT
BEGIN:STANDARD
TZOFFSETFROM:-0400
TZOFFSETTO:-0500
TZNAME:EST
DTSTART:20271107T060000
END:STANDARD
END:VTIMEZONE
BEGIN:VEVENT
DTSTART;VALUE=DATE:20251014
DTEND;VALUE=DATE:20260210
DTSTAMP:20260424T111138
CREATED:20251016T164757Z
LAST-MODIFIED:20260205T191002Z
UID:101510-1760400000-1770681599@creativepinellas.org
SUMMARY:In Flying Colors
DESCRIPTION:Creative Pinellas\, in partnership with St. Pete–Clearwater International Airport (PIE)\, is proud to launch the second exhibition at the Sightline Gallery\, located at PIE. In Flying Colors invites you to experience the vibrant creativity shaping Florida’s Gulf Coast—especially here in  Pinellas County—through artists David Williams and Rebecca Zweibel\, whose work captures the region’s color\, energy\, and ever-evolving artistic spirit. \nKeep reading to learn more about the artists and purchase their artworks on view at PIE. \nPhoto by Creative Pinellas.\nDavid Williams first discovered art by copying magazine illustrations at his grandparents’ home. That early spark grew into a lifelong exploration of imagery and meaning. Today\, Williams reclaims and repurposes familiar images from advertising and media\, transforming them into reflections on the image-saturated world around us.  \nAs you move through the airport\, we invite you to spend a moment to take in the work of ceramicist Rebecca Zweibel\,  located near the entrance. Drawn first to porcelain’s smooth\, bone-like quality\, Zweibel later embraced earthenware for its warmth\, color\, and versatility. She hand-builds her vessels\, carving expressive  lines into rich red clay and layering color with underglaze terra sigillata. Always experimenting\, Zweibel lets her  imagination guide her evolving forms\, where bold marks  and sculptural presence meet. \nFlanking the display of Zweibel’s work\, you will find more artwork by Williams. \nThis exhibition reflects the collaborative work of curators Katherine Gibson of arthouse3\, and Allison McCarthy\, combining Gibson’s curatorial framework and artist selection with McCarthy’s direction in artwork selection and installation. \nFeatured Artists\n            \n            \n                \n            \n            \n                David Williams\n                \n                    Posted on October 15\, 2025 by Maggie Duffy                \n                David Williams first discovered art by copying magazine illustrations at his grandparents’ home. That early spark  grew into a lifelong exploration of imagery and meaning.  Today\, Williams reclaims and repurposes… Read More \n            \n            \n            \n            \n            \n                \n            \n            \n                Rebecca Zweibel\n                \n                    Posted on October 16\, 2025 by Maggie Duffy                \n                Drawn first to porcelain’s smooth\, bone-like quality\, Rebecca Zweibel later embraced earthenware for its warmth\, color\, and versatility. She hand-builds her vessels\, carving expressive lines into rich red clay and… Read More \n            \n            \n            \n 
URL:https://creativepinellas.org/event/in-flying-colors/
LOCATION:St. Pete-Clearwater International Airport\, 14700 Terminal Blvd #221\, Clearwater\, FL\, 33762\, United States
CATEGORIES:Exhibition,Exhibition - Off Campus,Gallery Event,Off Campus Event
ATTACH;FMTTYPE=image/png:https://creativepinellas.org/wp-content/uploads/2025/10/In-Flying-Colors_PIE-exhibit_CP-logo.png
END:VEVENT
BEGIN:VEVENT
DTSTART;VALUE=DATE:20251121
DTEND;VALUE=DATE:20260111
DTSTAMP:20260424T111138
CREATED:20251212T144429Z
LAST-MODIFIED:20260105T224847Z
UID:101684-1763683200-1768089599@creativepinellas.org
SUMMARY:GIFTED! 20% OFF SALE Jan. 6-10
DESCRIPTION:Get 20% off all items Jan. 6-10. Open 10 am-5 pm Tuesday-Saturday. \nGive the gift of handmade art by local artists featured in the Gallery Store’s holiday exhibition\, GIFTED! Find art prints\, functional and whimsical ceramics\, must-have jewelry\, items for kids\, ornaments\, holiday cards and more. \nJust for the show\, Artist Tes One created an exclusive set of limited edition prints titled\, “Flourish.” The 3-color screen prints are 18″x24.” There is an edition of 50 of each variant\, signed and numbered by Tes One and printed locally by Alleyway Screen Print. $60 for a single variant\, $100 for the set. \n \nChad Mize created a custom sticker pack for Creative Pinellas. Chizzy Support the Arts Sticker packs have 6 designs and are $20. \n \nAnother special item is the Art Show 2026 Calendar\, designed by Lisa Marone. It features the eye-popping artwork of female artists of St. Petersburg and is $20. All proceeds benefit Creative Pinellas. \n \n \nAlso still available at Creative Pinellas are the Better Together Yard Signs\, created by Avery Anderson of Tampa Bay Arts Passport. It features a design by artist Leo Gomez from his mural that was commissioned in partnership with Creative Pinellas. $12\, proceeds benefit Creative Pinellas. \n  \n \nGallery host Cindy Stovall has created several Support the Arts Gift Baskets that include the sign\, the calendar and the sticker packs\, along with Creative Pinellas merchandise. \nHolidays hours are 10 am-4 p.m. Tuesdays and 10 am-8 pm\, Wednesday through Sunday through Jan. 4. Closed on Christmas Day and New Year’s Day.  Hours will resume  to 10 a.m.-5 p.m. Wed.-Sun from Jan. 6-11.
URL:https://creativepinellas.org/event/gifted/
LOCATION:The Gallery at Creative Pinellas\, 12211 Walsingham Rd\, Largo\, FL\, 33778\, United States
CATEGORIES:Exhibition,Gallery Event
END:VEVENT
END:VCALENDAR