BEGIN:VCALENDAR
VERSION:2.0
PRODID:-//Creative Pinellas - ECPv6.15.18//NONSGML v1.0//EN
CALSCALE:GREGORIAN
METHOD:PUBLISH
X-WR-CALNAME:Creative Pinellas
X-ORIGINAL-URL:https://creativepinellas.org
X-WR-CALDESC:Events for Creative Pinellas
REFRESH-INTERVAL;VALUE=DURATION:PT1H
X-Robots-Tag:noindex
X-PUBLISHED-TTL:PT1H
BEGIN:VTIMEZONE
TZID:America/New_York
BEGIN:DAYLIGHT
TZOFFSETFROM:-0500
TZOFFSETTO:-0400
TZNAME:EDT
DTSTART:20240310T070000
END:DAYLIGHT
BEGIN:STANDARD
TZOFFSETFROM:-0400
TZOFFSETTO:-0500
TZNAME:EST
DTSTART:20241103T060000
END:STANDARD
BEGIN:DAYLIGHT
TZOFFSETFROM:-0500
TZOFFSETTO:-0400
TZNAME:EDT
DTSTART:20250309T070000
END:DAYLIGHT
BEGIN:STANDARD
TZOFFSETFROM:-0400
TZOFFSETTO:-0500
TZNAME:EST
DTSTART:20251102T060000
END:STANDARD
BEGIN:DAYLIGHT
TZOFFSETFROM:-0500
TZOFFSETTO:-0400
TZNAME:EDT
DTSTART:20260308T070000
END:DAYLIGHT
BEGIN:STANDARD
TZOFFSETFROM:-0400
TZOFFSETTO:-0500
TZNAME:EST
DTSTART:20261101T060000
END:STANDARD
END:VTIMEZONE
BEGIN:VEVENT
DTSTART;VALUE=DATE:20250429
DTEND;VALUE=DATE:20251001
DTSTAMP:20260424T174615
CREATED:20250424T190913Z
LAST-MODIFIED:20250811T180807Z
UID:98321-1745884800-1759276799@creativepinellas.org
SUMMARY:Made in the Shade
DESCRIPTION:Creative Pinellas\, in partnership with St. Pete–Clearwater International Airport (PIE)\, is proud to launch the inaugural exhibition at the brand-new gallery called Sightline\, located at PIE. The first exhibition\, Made in the Shade\, curated by Katherine Gibson of Arthouse3 invites travelers and visitors to experience the beauty\, creativity\, and culture of Florida through the eyes of local artists. \nInspired by themes of Florida tourism\, vacations\, natural elements\, and regional artistic talent\, Made in the Shade offers a vibrant look at how artists capture the spirit of relaxation\, environment\, and sense of place that defines the Sunshine State. \nMade in the Shade has been extended through September 30 to give more visitors the opportunity to explore and enjoy the exhibition. \nFeatured Artists\n            \n            \n                \n            \n            \n                Elizabeth Barenis\n                \n                    Posted on September 13\, 2021 by Elizabeth Barenis                \n                She believes that what the viewer finds in the art is one of the most important things about it. Her work has been shown nationally and internationally…. Read More \n            \n            \n            \n            \n            \n                \n            \n            \n                Matthew Drennan Wicks\n                \n                    Posted on April 24\, 2025 by Creative Pinellas                \n                Matthew Drennan Wicks has been nationally and internationally recognized for his ceramic and non-ceramic based sculpture. His work discusses a process-based exploration of traditional craft in a contemporary context that… Read More \n            \n            \n            \n            \n            \n                \n            \n            \n                Babette Herschberger\n                \n                    Posted on  by Creative Pinellas                \n                Babette Herschberger b. 1961\, St. Joe\, Indiana Lives and works in St. Petersburg\, Florida USA Babette Herschberger is a painter\, she works intuitively to create minimal\, abstract compositions which emphasize… Read More
URL:https://creativepinellas.org/event/made-in-the-shade/
LOCATION:St. Pete-Clearwater International Airport\, 14700 Terminal Blvd #221\, Clearwater\, FL\, 33762\, United States
CATEGORIES:Exhibition,Exhibition - Off Campus,Off Campus Event
ATTACH;FMTTYPE=image/png:https://creativepinellas.org/wp-content/uploads/2025/04/Made-in-the-Shade.png
END:VEVENT
END:VCALENDAR