BEGIN:VCALENDAR
VERSION:2.0
PRODID:-//Creative Pinellas - ECPv6.15.18//NONSGML v1.0//EN
CALSCALE:GREGORIAN
METHOD:PUBLISH
X-WR-CALNAME:Creative Pinellas
X-ORIGINAL-URL:https://creativepinellas.org
X-WR-CALDESC:Events for Creative Pinellas
REFRESH-INTERVAL;VALUE=DURATION:PT1H
X-Robots-Tag:noindex
X-PUBLISHED-TTL:PT1H
BEGIN:VTIMEZONE
TZID:America/New_York
BEGIN:DAYLIGHT
TZOFFSETFROM:-0500
TZOFFSETTO:-0400
TZNAME:EDT
DTSTART:20230312T070000
END:DAYLIGHT
BEGIN:STANDARD
TZOFFSETFROM:-0400
TZOFFSETTO:-0500
TZNAME:EST
DTSTART:20231105T060000
END:STANDARD
BEGIN:DAYLIGHT
TZOFFSETFROM:-0500
TZOFFSETTO:-0400
TZNAME:EDT
DTSTART:20240310T070000
END:DAYLIGHT
BEGIN:STANDARD
TZOFFSETFROM:-0400
TZOFFSETTO:-0500
TZNAME:EST
DTSTART:20241103T060000
END:STANDARD
BEGIN:DAYLIGHT
TZOFFSETFROM:-0500
TZOFFSETTO:-0400
TZNAME:EDT
DTSTART:20250309T070000
END:DAYLIGHT
BEGIN:STANDARD
TZOFFSETFROM:-0400
TZOFFSETTO:-0500
TZNAME:EST
DTSTART:20251102T060000
END:STANDARD
END:VTIMEZONE
BEGIN:VEVENT
DTSTART;VALUE=DATE:20240718
DTEND;VALUE=DATE:20241007
DTSTAMP:20260425T124144
CREATED:20240604T215533Z
LAST-MODIFIED:20240717T223450Z
UID:93895-1721260800-1728259199@creativepinellas.org
SUMMARY:Threads of Nature: Art Inspired by the Florida Botanical Gardens
DESCRIPTION:Presented by the Tampa Bay Surface Design Guild\nContinuing the Gallery’s theme of “bringing the outdoors indoors\,” Threads of Nature: Art Inspired by the Florida Botanical Gardens pays homage to patterns and motifs seen just steps away from the Gallery. Created by members of the Tampa Bay Surface Design Guild\, these contemporary fiber artists provide a window into our surroundings through lush\, tactile creations in a variety of media. \nThe Gallery is open Wednesdays through Sundays\, from 10am –5pm. \nShop the Collection\n  \n            \n            \n                \n            \n            \n                Surface Design Guild\n                \n                    Posted on June 4\, 2024 by Creative Pinellas                \n                The Surface Design Guild was founded in the early 1990s by a group of four women who wanted to share their knowledge and learn from each other. That small group… Read More \n            \n            \n            \n            \n            \n                \n            \n            \n                Threads of Nature: Art Inspired by the Florida Botanical Gardens Opening Reception\n                \n                    Posted on  by Creative Pinellas                \n                Join us on Thursday\, July 18th\, from 6 to 8 pm for a magical evening as we reveal Threads of Nature: Inspired by the Florida Botanical Gardens…. Read More
URL:https://creativepinellas.org/event/threads-of-nature-art-inspired-by-the-florida-botanical-gardens/
LOCATION:The Gallery at Creative Pinellas archive\, 12211 Walsingham Road\, Largo\, FL\, 33778\, United States
CATEGORIES:Exhibition
END:VEVENT
BEGIN:VEVENT
DTSTART;VALUE=DATE:20240808
DTEND;VALUE=DATE:20241014
DTSTAMP:20260425T124144
CREATED:20240610T190250Z
LAST-MODIFIED:20240805T184755Z
UID:93954-1723075200-1728863999@creativepinellas.org
SUMMARY:Florida Watercolor Society 53rd Annual Exhibition
DESCRIPTION:This August\, immerse yourself in the captivating world of watercolors by joining us for the Florida Watercolor Society 53rd Annual Exhibition. The Florida Watercolor Society is one of the largest state watercolor societies in the country\, boasting almost 1\,000 members. Their Annual Exhibition is recognized as one of the top watermedia exhibitions in the state. Techniques vary from traditional to experimental\, displaying the versatility and inventive use of the medium. This year\, internationally renowned watercolorist Stephen Quiller is the juror and judge for the exhibition. \nThe Gallery is open Wednesdays through Sundays\, from 10am –5pm. \n            \n            \n                \n            \n            \n                Florida Watercolor Society\n                \n                    Posted on June 5\, 2024 by Creative Pinellas                \n                Initially\, the Florida Watercolor Society held three Annual Exhibitions between 1938 – 1941\, but there was no further activity until 1972 with an exhibition at the Maitland Art Center. Since… Read More \n            \n            \n            \n  \nShop the Collection
URL:https://creativepinellas.org/event/the-florida-watercolor-society-53rd-annual-exhibition/
LOCATION:The Gallery at Creative Pinellas\, 12211 Walsingham Rd\, Largo\, FL\, 33778\, United States
CATEGORIES:Exhibition,Gallery Event
END:VEVENT
BEGIN:VEVENT
DTSTART;TZID=America/New_York:20240817T070000
DTEND;TZID=America/New_York:20240817T170000
DTSTAMP:20260425T124144
CREATED:20240621T184926Z
LAST-MODIFIED:20240722T183355Z
UID:94511-1723878000-1723914000@creativepinellas.org
SUMMARY:Third Saturdays at Pinewood Aug '24
DESCRIPTION:Celebrate at Pinewood (Florida Botanical Gardens\, Creative Pinellas\, Heritage Village) every 3rd Saturday! Free event\, free parking! \nAt Creative Pinellas (10 am – 5 pm):\nVisit the Gallery at Creative Pinellas for two must-see exhibitions! Catch Threads of Nature: Art Inspired by the Florida Botanical Gardens\, featuring works by the Tampa Bay Surface Design Guild that capture nature’s beauty. Also on display is the Florida Watercolor Society 53rd Annual Exhibition where you can immerse yourself in the captivating world of watercolors. Feeling inspired? Stop by our drawing room to unleash your inner artist. Free admission and fun for the whole family! \nAt the Florida Botanical Gardens (7 am – 5 pm):\nVisit the new Majeed Discovery Garden\, a 2+ acre addition\, connecting children to nature. Our Children’s Garden Educator is hosting a variety of preschool and family programs in the Majeed Discovery Garden on topics like sustainability\, sensory exploration\, and more. Visit the Event Calendar on our website at www.flbgfoundation.org/events to view all of the programs offered in our Majeed Discovery Garden. \nAt Heritage Village (10 am – 4 pm):\nExplore the past at Pinellas County’s 21-acre living history museum! Step back in time and take a docent tour of select historic buildings\, visit Pinellas County’s oldest structure\, and peruse locally-made artisan gifts and souvenirs at the gift shop. Interested in learning more? The Heritage Village app features self-guided walking tours and archival photographs and information about your favorite Heritage Village buildings\, historic figures\, and artifacts! Download the app for free in your preferred mobile app store by searching “Heritage Village”. Heritage Village is free to visit\, pet-friendly\, and perfect for all ages!
URL:https://creativepinellas.org/event/third-saturdays-at-pinewood-3-10/
LOCATION:The Gallery at Creative Pinellas archive\, 12211 Walsingham Road\, Largo\, FL\, 33778\, United States
CATEGORIES:Gallery Event,Pinewood Partners
ATTACH;FMTTYPE=image/png:https://creativepinellas.org/wp-content/uploads/2022/04/Pinewood_3rdSaturdays_WebGraphic_NoDate.png
END:VEVENT
END:VCALENDAR