BEGIN:VCALENDAR
VERSION:2.0
PRODID:-//Creative Pinellas - ECPv6.15.18//NONSGML v1.0//EN
CALSCALE:GREGORIAN
METHOD:PUBLISH
X-WR-CALNAME:Creative Pinellas
X-ORIGINAL-URL:https://creativepinellas.org
X-WR-CALDESC:Events for Creative Pinellas
REFRESH-INTERVAL;VALUE=DURATION:PT1H
X-Robots-Tag:noindex
X-PUBLISHED-TTL:PT1H
BEGIN:VTIMEZONE
TZID:America/New_York
BEGIN:DAYLIGHT
TZOFFSETFROM:-0500
TZOFFSETTO:-0400
TZNAME:EDT
DTSTART:20230312T070000
END:DAYLIGHT
BEGIN:STANDARD
TZOFFSETFROM:-0400
TZOFFSETTO:-0500
TZNAME:EST
DTSTART:20231105T060000
END:STANDARD
BEGIN:DAYLIGHT
TZOFFSETFROM:-0500
TZOFFSETTO:-0400
TZNAME:EDT
DTSTART:20240310T070000
END:DAYLIGHT
BEGIN:STANDARD
TZOFFSETFROM:-0400
TZOFFSETTO:-0500
TZNAME:EST
DTSTART:20241103T060000
END:STANDARD
BEGIN:DAYLIGHT
TZOFFSETFROM:-0500
TZOFFSETTO:-0400
TZNAME:EDT
DTSTART:20250309T070000
END:DAYLIGHT
BEGIN:STANDARD
TZOFFSETFROM:-0400
TZOFFSETTO:-0500
TZNAME:EST
DTSTART:20251102T060000
END:STANDARD
END:VTIMEZONE
BEGIN:VEVENT
DTSTART;TZID=America/New_York:20240507T190000
DTEND;TZID=America/New_York:20240507T203000
DTSTAMP:20260425T171856
CREATED:20240205T202206Z
LAST-MODIFIED:20240223T221139Z
UID:89583-1715108400-1715113800@creativepinellas.org
SUMMARY:FRESH INK\, May 7
DESCRIPTION:Bonefruit by Leah Plante-Wiener\nSynopsis: “In a chapel in the middle of the desert\, two girls meet for the first time in years. Together\, they must grapple with their beliefs\, an act of forgiveness\, and the thought of an existence beyond the violence that has forged them.” \nFree to attend. \nBook Now
URL:https://creativepinellas.org/event/fresh-ink-may-7/
LOCATION:The Auditorium at Creative Pinellas\, 12211 Walsingham Rd\, Largo\, FL\, 33778\, United States
CATEGORIES:Exhibition,Gallery Event,Live Performance
ATTACH;FMTTYPE=image/png:https://creativepinellas.org/wp-content/uploads/2023/09/AS_CP_FreshInkBranding-web.png
END:VEVENT
END:VCALENDAR