BEGIN:VCALENDAR
VERSION:2.0
PRODID:-//Creative Pinellas - ECPv6.15.18//NONSGML v1.0//EN
CALSCALE:GREGORIAN
METHOD:PUBLISH
X-WR-CALNAME:Creative Pinellas
X-ORIGINAL-URL:https://creativepinellas.org
X-WR-CALDESC:Events for Creative Pinellas
REFRESH-INTERVAL;VALUE=DURATION:PT1H
X-Robots-Tag:noindex
X-PUBLISHED-TTL:PT1H
BEGIN:VTIMEZONE
TZID:America/New_York
BEGIN:DAYLIGHT
TZOFFSETFROM:-0500
TZOFFSETTO:-0400
TZNAME:EDT
DTSTART:20230312T070000
END:DAYLIGHT
BEGIN:STANDARD
TZOFFSETFROM:-0400
TZOFFSETTO:-0500
TZNAME:EST
DTSTART:20231105T060000
END:STANDARD
BEGIN:DAYLIGHT
TZOFFSETFROM:-0500
TZOFFSETTO:-0400
TZNAME:EDT
DTSTART:20240310T070000
END:DAYLIGHT
BEGIN:STANDARD
TZOFFSETFROM:-0400
TZOFFSETTO:-0500
TZNAME:EST
DTSTART:20241103T060000
END:STANDARD
BEGIN:DAYLIGHT
TZOFFSETFROM:-0500
TZOFFSETTO:-0400
TZNAME:EDT
DTSTART:20250309T070000
END:DAYLIGHT
BEGIN:STANDARD
TZOFFSETFROM:-0400
TZOFFSETTO:-0500
TZNAME:EST
DTSTART:20251102T060000
END:STANDARD
END:VTIMEZONE
BEGIN:VEVENT
DTSTART;VALUE=DATE:20240314
DTEND;VALUE=DATE:20240429
DTSTAMP:20260425T203912
CREATED:20240212T210035Z
LAST-MODIFIED:20240314T183931Z
UID:89819-1710374400-1714348799@creativepinellas.org
SUMMARY:Strength of Character Exhibition
DESCRIPTION:Experience an environment curated by Katherine Gibson where visual and physical weight converge in a symphony of artistic expression. This exhibition will feature large-scale paintings by Edgar Sanchez Cumbas\, elegant sculptural wood pieces by Kathleen & David Bly (Jib Projects)\, and site-specific installation and assembled objects by Kendra Frorup. \nStep into a realm where the strength and character of the exhibit – both visually and structurally – is conveyed through the placement of chosen materials to not only enhance the character of each object and artwork but to create an impactful whole. Everything influences everything else. \nA Gobioff Foundation Microgrant Project curated by Katherine Gibson \nShop the Exhibit\n\nFeatured Artists\n            \n            \n                \n            \n            \n                Kendra Frorup\n                \n                    Posted on February 13\, 2024 by Creative Pinellas                \n                Kendra Frorup is an internationally known multidisciplinary artist. Splitting her time between Tampa and Nassau\, she uses a variety of everyday materials and found objects to create sculptural and multi-media… Read More \n            \n            \n            \n            \n            \n                \n            \n            \n                Kathleen & David Bly\n                \n                    Posted on  by Creative Pinellas                \n                Kathleen and David Bly co-founded Jib Projects\, an art and design collective\, in 2022. The Florida landscape has long been a source of their inspiration and their work explores connection… Read More \n            \n            \n            \n            \n            \n                \n            \n            \n                Edgar Sanchez Cumbas\n                \n                    Posted on  by Creative Pinellas                \n                Artist Edgar Sanchez Cumbas uses the techniques of color and contemporary abstraction to explore the concepts of identity\, multiculturalism\, and social-political issues. His work is complex\, many incorporating layers upon… Read More \n            \n            \n             \nCurator\nKatherine Gibson \nRelated Events\n            \n            \n                \n            \n            \n                Strength of Character Exhibition Opening Reception\n                \n                    Posted on February 12\, 2024 by Creative Pinellas                \n                Join us for a magical evening as we unveil the Strength of Character exhibition\, an environment curated by Katherine Gibson where visual and physical weight converge in a symphony of… Read More
URL:https://creativepinellas.org/event/strength-of-character-exhibition/
LOCATION:The Gallery at Creative Pinellas archive\, 12211 Walsingham Road\, Largo\, FL\, 33778\, United States
CATEGORIES:Exhibition,Gallery Event
END:VEVENT
BEGIN:VEVENT
DTSTART;VALUE=DATE:20240406
DTEND;VALUE=DATE:20240429
DTSTAMP:20260425T203912
CREATED:20240402T173517Z
LAST-MODIFIED:20240404T180650Z
UID:91076-1712361600-1714348799@creativepinellas.org
SUMMARY:Artistic Discovery 2024: 13th Congressional District of Florida Exhibition
DESCRIPTION:Celebrate the Artistic Discovery 2024: 13th Congressional District of Florida Exhibition this Spring.\nThe Artistic Discovery 2024 – 13th Congressional District of Florida Exhibition will be held this year at the Gallery at Creative Pinellas featuring works of art by Pinellas County High School Students. Each spring\, the Congressional Institute sponsors a nationwide high school visual art competition to recognize and encourage artistic talent in the nation and in each congressional district. Since the Artistic Discovery competition began in 1982\, more than 650\,000 high school students have participated. \nStudents submit entries to their representative’s office\, and panels of district artists select the winning entries. Winners are recognized both in their district and at an annual awards ceremony in Washington\, DC. The winning works are displayed for one year at the U.S. Capitol. \nThe 13th Congressional District High School Artistic Discovery Competition is presented in partnership with the Office of U.S. Representative Anna Paulina Luna. \nThe gallery is open Wednesday through Sunday from 10am-5pm.\nFREE and open to the public. \nEvents Surrounding Exhibition\nThere will be an Award Ceremony for the artists and their families on April 20 from 3-5pm.
URL:https://creativepinellas.org/event/artistic-discovery-2024-13th-congressional-district-of-florida-exhibition/
LOCATION:The Gallery at Creative Pinellas archive\, 12211 Walsingham Road\, Largo\, FL\, 33778\, United States
CATEGORIES:Exhibition
END:VEVENT
END:VCALENDAR