BEGIN:VCALENDAR
VERSION:2.0
PRODID:-//Creative Pinellas - ECPv6.15.18//NONSGML v1.0//EN
CALSCALE:GREGORIAN
METHOD:PUBLISH
X-WR-CALNAME:Creative Pinellas
X-ORIGINAL-URL:https://creativepinellas.org
X-WR-CALDESC:Events for Creative Pinellas
REFRESH-INTERVAL;VALUE=DURATION:PT1H
X-Robots-Tag:noindex
X-PUBLISHED-TTL:PT1H
BEGIN:VTIMEZONE
TZID:America/New_York
BEGIN:DAYLIGHT
TZOFFSETFROM:-0500
TZOFFSETTO:-0400
TZNAME:EDT
DTSTART:20230312T070000
END:DAYLIGHT
BEGIN:STANDARD
TZOFFSETFROM:-0400
TZOFFSETTO:-0500
TZNAME:EST
DTSTART:20231105T060000
END:STANDARD
BEGIN:DAYLIGHT
TZOFFSETFROM:-0500
TZOFFSETTO:-0400
TZNAME:EDT
DTSTART:20240310T070000
END:DAYLIGHT
BEGIN:STANDARD
TZOFFSETFROM:-0400
TZOFFSETTO:-0500
TZNAME:EST
DTSTART:20241103T060000
END:STANDARD
BEGIN:DAYLIGHT
TZOFFSETFROM:-0500
TZOFFSETTO:-0400
TZNAME:EDT
DTSTART:20250309T070000
END:DAYLIGHT
BEGIN:STANDARD
TZOFFSETFROM:-0400
TZOFFSETTO:-0500
TZNAME:EST
DTSTART:20251102T060000
END:STANDARD
END:VTIMEZONE
BEGIN:VEVENT
DTSTART;VALUE=DATE:20240127
DTEND;VALUE=DATE:20240226
DTSTAMP:20260425T220850
CREATED:20240118T165759Z
LAST-MODIFIED:20240118T192942Z
UID:89035-1706313600-1708905599@creativepinellas.org
SUMMARY:ARTS ANNUAL FOCUS: Literary and Performing Arts
DESCRIPTION:Art extends far beyond the confines of visual arts\, encompassing a diverse array of talents and mediums. Musicians connect with their audience through melody and lyrics; writers create literary worlds that explore the complexities of the human condition; performers\, directors\, and filmmakers push the boundaries of physical and visual expression to convey profound narratives. This exhibition will showcase the work of Actors\, Authors\, Composers\, Dancers\, Directors\, Filmmakers\, Musicians\, and Interdisciplinary Artists in a setting where they are not normally found: an art gallery. We invite you to be part of our experiment to appreciate the varied forms of creativity that enrich our understanding of the world. \nFeaturing the work of Creative Pinellas grantees and mentors who participated in Arts Annual 2023: Tatiana Baccari\, Sheila Cowley\, the Dunedin Music Society\, Sara Ries Dziekonski\, Sarah Emery\, Roxanne M. Fay\, Sheree L Greer\, Victoria Jorgensen\, Desireé Moore\, Rose Marie Prins\, Tom Sivak\, Erica Sutherlin\, and Takeya Trayer. \nThe Gallery is open Wednesdays through Sundays\, from 10am –5pm. \nLearn more about Arts Annual\n            \n            \n                \n            \n            \n                Arts Annual\n                \n                    Posted on August 27\, 2024 by Creative Pinellas                \n                Arts Annual is now the Arts Annual Hurricane Relief Fundraiser. Please join us December 7 to help our arts community recover from hurricane devastation. Please join us for the Arts… Read More
URL:https://creativepinellas.org/event/arts-annual-focus-literary-and-performing-arts/
LOCATION:The Gallery at Creative Pinellas archive\, 12211 Walsingham Road\, Largo\, FL\, 33778\, United States
CATEGORIES:Exhibition,Gallery Event
ATTACH;FMTTYPE=image/png:https://creativepinellas.org/wp-content/uploads/2024/01/23-Arts-Annual-FOCUS-Web-1920-x-1080.png
END:VEVENT
BEGIN:VEVENT
DTSTART;TZID=America/New_York:20240217T070000
DTEND;TZID=America/New_York:20240217T213000
DTSTAMP:20260425T220850
CREATED:20240125T192046Z
LAST-MODIFIED:20240125T192049Z
UID:89258-1708153200-1708205400@creativepinellas.org
SUMMARY:Third Saturdays at Pinewood
DESCRIPTION:Celebrate at Pinewood (Florida Botanical Gardens\, Creative Pinellas\, Heritage Village) every 3rd Saturday! Free event\, free parking! \nAt Creative Pinellas (10 am – 5 pm):\nVisit the Gallery at Creative Pinellas to experience Nature Pix\, by Artist and Designer Mikhail Mansion\, which redefines the boundaries of art and technology. From 10 am to 2pm\, join us for a drop-in art activity where you will draw your own robot design! What will your robot do? Free to attend and our Café is open. \nAt the Florida Botanical Gardens (7 am – 5 pm):\nVisit the new Majeed Discovery Garden\, a 2+ acre addition\, connecting children to nature. Our Children’s Garden Educator is hosting a variety of preschool and family programs in the Majeed Discovery Garden on topics like sustainability\, sensory exploration\, and more. Visit the Event Calendar on our website at www.flbgfoundation.org/events to view all of the programs offered in our Majeed Discovery Garden. \nAt Heritage Village (10 am – 4 pm):\nExplore the past at Pinellas County’s 21-acre living history museum! Step back in time and take a docent tour of select historic buildings\, visit Pinellas County’s oldest structure\, and peruse locally-made artisan gifts and souvenirs at the gift shop. Interested in learning more? The Heritage Village app features self-guided walking tours and archival photographs and information about your favorite Heritage Village buildings\, historic figures\, and artifacts! Download the app for free in your preferred mobile app store by searching “Heritage Village”. Heritage Village is free to visit\, pet-friendly\, and perfect for all ages!
URL:https://creativepinellas.org/event/third-saturdays-at-pinewood-3-3/
LOCATION:The Gallery at Creative Pinellas archive\, 12211 Walsingham Road\, Largo\, FL\, 33778\, United States
CATEGORIES:Gallery Event,Pinewood Partners
ATTACH;FMTTYPE=image/png:https://creativepinellas.org/wp-content/uploads/2022/04/Pinewood_3rdSaturdays_WebGraphic_NoDate.png
END:VEVENT
END:VCALENDAR