BEGIN:VCALENDAR
VERSION:2.0
PRODID:-//Creative Pinellas - ECPv6.15.18//NONSGML v1.0//EN
CALSCALE:GREGORIAN
METHOD:PUBLISH
X-WR-CALNAME:Creative Pinellas
X-ORIGINAL-URL:https://creativepinellas.org
X-WR-CALDESC:Events for Creative Pinellas
REFRESH-INTERVAL;VALUE=DURATION:PT1H
X-Robots-Tag:noindex
X-PUBLISHED-TTL:PT1H
BEGIN:VTIMEZONE
TZID:America/New_York
BEGIN:DAYLIGHT
TZOFFSETFROM:-0500
TZOFFSETTO:-0400
TZNAME:EDT
DTSTART:20230312T070000
END:DAYLIGHT
BEGIN:STANDARD
TZOFFSETFROM:-0400
TZOFFSETTO:-0500
TZNAME:EST
DTSTART:20231105T060000
END:STANDARD
BEGIN:DAYLIGHT
TZOFFSETFROM:-0500
TZOFFSETTO:-0400
TZNAME:EDT
DTSTART:20240310T070000
END:DAYLIGHT
BEGIN:STANDARD
TZOFFSETFROM:-0400
TZOFFSETTO:-0500
TZNAME:EST
DTSTART:20241103T060000
END:STANDARD
BEGIN:DAYLIGHT
TZOFFSETFROM:-0500
TZOFFSETTO:-0400
TZNAME:EDT
DTSTART:20250309T070000
END:DAYLIGHT
BEGIN:STANDARD
TZOFFSETFROM:-0400
TZOFFSETTO:-0500
TZNAME:EST
DTSTART:20251102T060000
END:STANDARD
END:VTIMEZONE
BEGIN:VEVENT
DTSTART;VALUE=DATE:20240127
DTEND;VALUE=DATE:20240226
DTSTAMP:20260425T220851
CREATED:20240118T165759Z
LAST-MODIFIED:20240118T192942Z
UID:89035-1706313600-1708905599@creativepinellas.org
SUMMARY:ARTS ANNUAL FOCUS: Literary and Performing Arts
DESCRIPTION:Art extends far beyond the confines of visual arts\, encompassing a diverse array of talents and mediums. Musicians connect with their audience through melody and lyrics; writers create literary worlds that explore the complexities of the human condition; performers\, directors\, and filmmakers push the boundaries of physical and visual expression to convey profound narratives. This exhibition will showcase the work of Actors\, Authors\, Composers\, Dancers\, Directors\, Filmmakers\, Musicians\, and Interdisciplinary Artists in a setting where they are not normally found: an art gallery. We invite you to be part of our experiment to appreciate the varied forms of creativity that enrich our understanding of the world. \nFeaturing the work of Creative Pinellas grantees and mentors who participated in Arts Annual 2023: Tatiana Baccari\, Sheila Cowley\, the Dunedin Music Society\, Sara Ries Dziekonski\, Sarah Emery\, Roxanne M. Fay\, Sheree L Greer\, Victoria Jorgensen\, Desireé Moore\, Rose Marie Prins\, Tom Sivak\, Erica Sutherlin\, and Takeya Trayer. \nThe Gallery is open Wednesdays through Sundays\, from 10am –5pm. \nLearn more about Arts Annual\n            \n            \n                \n            \n            \n                Arts Annual\n                \n                    Posted on August 27\, 2024 by Creative Pinellas                \n                Arts Annual is now the Arts Annual Hurricane Relief Fundraiser. Please join us December 7 to help our arts community recover from hurricane devastation. Please join us for the Arts… Read More
URL:https://creativepinellas.org/event/arts-annual-focus-literary-and-performing-arts/
LOCATION:The Gallery at Creative Pinellas archive\, 12211 Walsingham Road\, Largo\, FL\, 33778\, United States
CATEGORIES:Exhibition,Gallery Event
ATTACH;FMTTYPE=image/png:https://creativepinellas.org/wp-content/uploads/2024/01/23-Arts-Annual-FOCUS-Web-1920-x-1080.png
END:VEVENT
BEGIN:VEVENT
DTSTART;TZID=America/New_York:20240206T120000
DTEND;TZID=America/New_York:20240206T130000
DTSTAMP:20260425T220851
CREATED:20240125T000309Z
LAST-MODIFIED:20240125T000309Z
UID:89233-1707220800-1707224400@creativepinellas.org
SUMMARY:Artist Info Session: 2024 ARTWorks Signal Box Project
DESCRIPTION:Artists will have an opportunity to meet with Creative Pinellas and participating Partners to learn about the project and to ask any questions they may have about the application period. \nArtist Info Session: Feb 6\, 2024\, Noon \nRegister
URL:https://creativepinellas.org/event/artist-info-session-2024-artworks-signal-box-project/
CATEGORIES:Virtual Event
END:VEVENT
BEGIN:VEVENT
DTSTART;TZID=America/New_York:20240206T190000
DTEND;TZID=America/New_York:20240206T203000
DTSTAMP:20260425T220851
CREATED:20231214T192024Z
LAST-MODIFIED:20240118T170404Z
UID:88415-1707246000-1707251400@creativepinellas.org
SUMMARY:FRESH INK\, February 6
DESCRIPTION:The Found Dog Ribbon Dance by Dominic Finocchiaro\n“Professional cuddler Norma’s quest to return a lost dog to its rightful owner leads her to encounter a slew of oddballs and maybe even discover a second chance at love.” \nFree to attend. \nBook Now
URL:https://creativepinellas.org/event/fresh-ink-february-6/
LOCATION:The Auditorium at Creative Pinellas\, 12211 Walsingham Rd\, Largo\, FL\, 33778\, United States
CATEGORIES:Exhibition,Gallery Event,Live Performance
ATTACH;FMTTYPE=image/png:https://creativepinellas.org/wp-content/uploads/2023/09/AS_CP_FreshInkBranding-web.png
END:VEVENT
END:VCALENDAR